BEGIN:VCALENDAR
VERSION:2.0
PRODID:-//Rivermont Collegiate - ECPv6.15.20//NONSGML v1.0//EN
CALSCALE:GREGORIAN
METHOD:PUBLISH
X-WR-CALNAME:Rivermont Collegiate
X-ORIGINAL-URL:https://www.rivermontcollegiate.org
X-WR-CALDESC:Events for Rivermont Collegiate
REFRESH-INTERVAL;VALUE=DURATION:PT1H
X-Robots-Tag:noindex
X-PUBLISHED-TTL:PT1H
BEGIN:VTIMEZONE
TZID:UTC
BEGIN:STANDARD
TZOFFSETFROM:+0000
TZOFFSETTO:+0000
TZNAME:UTC
DTSTART:20220101T000000
END:STANDARD
END:VTIMEZONE
BEGIN:VEVENT
DTSTART;TZID=UTC:20230618T170000
DTEND;TZID=UTC:20230618T190000
DTSTAMP:20260424T210633
CREATED:20230606T133622Z
LAST-MODIFIED:20230606T133751Z
UID:240237-1687107600-1687114800@www.rivermontcollegiate.org
SUMMARY:Yogev Shetrit Trio – Polyrhythms Third Sunday Jazz Series
DESCRIPTION:POLYRHYTHMS Third Sunday Jazz Workshop & Matinee Series presents the internationally acclaimed Yogev Shetrit Trio’s “Way of Tradition” with its rich Andalusian Jazz feel.
URL:https://www.rivermontcollegiate.org/event/yogev-shetrit-trio/
LOCATION:Rivermont Collegiate\, 1821 Sunset Drive\, Bettendorf\, IA\, 52722\, United States
CATEGORIES:Polyrhythms Third Sunday Jazz Series
END:VEVENT
END:VCALENDAR