BEGIN:VCALENDAR
VERSION:2.0
PRODID:-//Rivermont Collegiate - ECPv6.15.20//NONSGML v1.0//EN
CALSCALE:GREGORIAN
METHOD:PUBLISH
X-ORIGINAL-URL:https://www.rivermontcollegiate.org
X-WR-CALDESC:Events for Rivermont Collegiate
REFRESH-INTERVAL;VALUE=DURATION:PT1H
X-Robots-Tag:noindex
X-PUBLISHED-TTL:PT1H
BEGIN:VTIMEZONE
TZID:UTC
BEGIN:STANDARD
TZOFFSETFROM:+0000
TZOFFSETTO:+0000
TZNAME:UTC
DTSTART:20240101T000000
END:STANDARD
END:VTIMEZONE
BEGIN:VEVENT
DTSTART;TZID=UTC:20250828T180000
DTEND;TZID=UTC:20250828T210000
DTSTAMP:20260422T005204
CREATED:20250820T151200Z
LAST-MODIFIED:20250820T151241Z
UID:250682-1756404000-1756414800@www.rivermontcollegiate.org
SUMMARY:Volleyball - Varsity Girls @ Midland HS
DESCRIPTION:Game @ Midland HS (Tri)\n109 W Green St.\, Wyoming\, IA 52362 \n\nMidland v Prince of Peace\, 6 p.m.\nRivermont v POP\, 7 p.m.\nRivermong v Midland\, 8 p.m.
URL:https://www.rivermontcollegiate.org/event/volleyball-varsity-girls-midland-hs/
LOCATION:Midland HS\, 109 W Green St\, Wyoming\, IA\, 52362\, United States
CATEGORIES:Athletics,Game
END:VEVENT
END:VCALENDAR