BEGIN:VCALENDAR
VERSION:2.0
PRODID:-//Rivermont Collegiate - ECPv6.15.20//NONSGML v1.0//EN
CALSCALE:GREGORIAN
METHOD:PUBLISH
X-ORIGINAL-URL:https://www.rivermontcollegiate.org
X-WR-CALDESC:Events for Rivermont Collegiate
REFRESH-INTERVAL;VALUE=DURATION:PT1H
X-Robots-Tag:noindex
X-PUBLISHED-TTL:PT1H
BEGIN:VTIMEZONE
TZID:UTC
BEGIN:STANDARD
TZOFFSETFROM:+0000
TZOFFSETTO:+0000
TZNAME:UTC
DTSTART:20220101T000000
END:STANDARD
END:VTIMEZONE
BEGIN:VEVENT
DTSTART;TZID=UTC:20230817T183000
DTEND;TZID=UTC:20230817T190000
DTSTAMP:20260423T200624
CREATED:20230721T120051Z
LAST-MODIFIED:20230803T131713Z
UID:240291-1692297000-1692298800@www.rivermontcollegiate.org
SUMMARY:Unpack Your Backpack
DESCRIPTION:Unpack Your Backpack & Ice Cream Social
URL:https://www.rivermontcollegiate.org/event/unpack-your-backpack/
LOCATION:Rivermont Collegiate\, 1821 Sunset Drive\, Bettendorf\, IA\, 52722\, United States
CATEGORIES:School
ORGANIZER;CN="Rivermont Collegiate":MAILTO:jweitzel@rivermontcollegiate.org
END:VEVENT
END:VCALENDAR