BEGIN:VCALENDAR
VERSION:2.0
PRODID:-//Rivermont Collegiate - ECPv6.15.20//NONSGML v1.0//EN
CALSCALE:GREGORIAN
METHOD:PUBLISH
X-ORIGINAL-URL:https://www.rivermontcollegiate.org
X-WR-CALDESC:Events for Rivermont Collegiate
REFRESH-INTERVAL;VALUE=DURATION:PT1H
X-Robots-Tag:noindex
X-PUBLISHED-TTL:PT1H
BEGIN:VTIMEZONE
TZID:UTC
BEGIN:STANDARD
TZOFFSETFROM:+0000
TZOFFSETTO:+0000
TZNAME:UTC
DTSTART:20230101T000000
END:STANDARD
END:VTIMEZONE
BEGIN:VEVENT
DTSTART;TZID=UTC:20240209T190000
DTEND;TZID=UTC:20240209T203000
DTSTAMP:20260424T230315
CREATED:20240129T132230Z
LAST-MODIFIED:20240129T132230Z
UID:242867-1707505200-1707510600@www.rivermontcollegiate.org
SUMMARY:Varsity Boys Basketball Playoff
DESCRIPTION:Varsity Boys’ Basketball Playoff GAME
URL:https://www.rivermontcollegiate.org/event/varsity-boys-basketball-playoff/
CATEGORIES:Athletics,Game
END:VEVENT
END:VCALENDAR