BEGIN:VCALENDAR
VERSION:2.0
PRODID:-//Rivermont Collegiate - ECPv6.15.20//NONSGML v1.0//EN
CALSCALE:GREGORIAN
METHOD:PUBLISH
X-ORIGINAL-URL:https://www.rivermontcollegiate.org
X-WR-CALDESC:Events for Rivermont Collegiate
REFRESH-INTERVAL;VALUE=DURATION:PT1H
X-Robots-Tag:noindex
X-PUBLISHED-TTL:PT1H
BEGIN:VTIMEZONE
TZID:UTC
BEGIN:STANDARD
TZOFFSETFROM:+0000
TZOFFSETTO:+0000
TZNAME:UTC
DTSTART:20220101T000000
END:STANDARD
END:VTIMEZONE
BEGIN:VEVENT
DTSTART;TZID=UTC:20231012T083000
DTEND;TZID=UTC:20231012T140000
DTSTAMP:20260426T011525
CREATED:20230912T125547Z
LAST-MODIFIED:20230912T125647Z
UID:241192-1697099400-1697119200@www.rivermontcollegiate.org
SUMMARY:OLE Day
DESCRIPTION:Early and Lower School students head to Nahant Marsh for their Outdoor Learning Experience (OLE) Day. \nEarly School leaves first thing in the morning\, followed by Lower School\, mid-morning into early afternoon.
URL:https://www.rivermontcollegiate.org/event/ole-day/
LOCATION:Nahant Marsh\, 4220 Wapello Ave\,\, Davenport\, IA\, 52802\, United States
CATEGORIES:School,Trip
END:VEVENT
END:VCALENDAR