BEGIN:VCALENDAR
VERSION:2.0
PRODID:-//Rivermont Collegiate - ECPv6.15.20//NONSGML v1.0//EN
CALSCALE:GREGORIAN
METHOD:PUBLISH
X-ORIGINAL-URL:https://www.rivermontcollegiate.org
X-WR-CALDESC:Events for Rivermont Collegiate
REFRESH-INTERVAL;VALUE=DURATION:PT1H
X-Robots-Tag:noindex
X-PUBLISHED-TTL:PT1H
BEGIN:VTIMEZONE
TZID:UTC
BEGIN:STANDARD
TZOFFSETFROM:+0000
TZOFFSETTO:+0000
TZNAME:UTC
DTSTART:20240101T000000
END:STANDARD
END:VTIMEZONE
BEGIN:VEVENT
DTSTART;VALUE=DATE:20250901
DTEND;VALUE=DATE:20250902
DTSTAMP:20260422T005126
CREATED:20250818T153031Z
LAST-MODIFIED:20250818T153113Z
UID:250583-1756684800-1756771199@www.rivermontcollegiate.org
SUMMARY:No School - Labor Day
DESCRIPTION:
URL:https://www.rivermontcollegiate.org/event/no-school-labor-day/
CATEGORIES:Holiday
END:VEVENT
END:VCALENDAR