BEGIN:VCALENDAR
VERSION:2.0
PRODID:-//Rivermont Collegiate - ECPv6.15.20//NONSGML v1.0//EN
CALSCALE:GREGORIAN
METHOD:PUBLISH
X-ORIGINAL-URL:https://www.rivermontcollegiate.org
X-WR-CALDESC:Events for Rivermont Collegiate
REFRESH-INTERVAL;VALUE=DURATION:PT1H
X-Robots-Tag:noindex
X-PUBLISHED-TTL:PT1H
BEGIN:VTIMEZONE
TZID:UTC
BEGIN:STANDARD
TZOFFSETFROM:+0000
TZOFFSETTO:+0000
TZNAME:UTC
DTSTART:20240101T000000
END:STANDARD
END:VTIMEZONE
BEGIN:VEVENT
DTSTART;TZID=UTC:20250529T081500
DTEND;TZID=UTC:20250529T153000
DTSTAMP:20260422T171153
CREATED:20240815T142022Z
LAST-MODIFIED:20240815T142022Z
UID:245459-1748506500-1748532600@www.rivermontcollegiate.org
SUMMARY:Last Day for Early School
DESCRIPTION:
URL:https://www.rivermontcollegiate.org/event/last-day-for-early-school/
CATEGORIES:Last Day
END:VEVENT
END:VCALENDAR