BEGIN:VCALENDAR
VERSION:2.0
PRODID:-//Rivermont Collegiate - ECPv6.15.20//NONSGML v1.0//EN
CALSCALE:GREGORIAN
METHOD:PUBLISH
X-ORIGINAL-URL:https://www.rivermontcollegiate.org
X-WR-CALDESC:Events for Rivermont Collegiate
REFRESH-INTERVAL;VALUE=DURATION:PT1H
X-Robots-Tag:noindex
X-PUBLISHED-TTL:PT1H
BEGIN:VTIMEZONE
TZID:UTC
BEGIN:STANDARD
TZOFFSETFROM:+0000
TZOFFSETTO:+0000
TZNAME:UTC
DTSTART:20230101T000000
END:STANDARD
END:VTIMEZONE
BEGIN:VEVENT
DTSTART;TZID=UTC:20240921T100000
DTEND;TZID=UTC:20240921T140000
DTSTAMP:20260422T150751
CREATED:20240528T144929Z
LAST-MODIFIED:20240815T131954Z
UID:244774-1726912800-1726927200@www.rivermontcollegiate.org
SUMMARY:140th Birthday Celebration Open House
DESCRIPTION:Schedule of Events \n\n10:30 to 11:00 a.m. – Mansion Dedication\n11:00 a.m. and 1:00 p.m.\n\nEstate Planning Refresher\nSchool History Presentation\nMansion and Campus Tours\n\n\n12:00 p.m. – Birthday Cake\n\nOpen to the entire Quad Cities community.
URL:https://www.rivermontcollegiate.org/event/140th-birthday-celebration/
LOCATION:Rivermont Collegiate\, 1821 Sunset Drive\, Bettendorf\, IA\, 52722\, United States
CATEGORIES:Ceremony,Public
END:VEVENT
END:VCALENDAR