BEGIN:VCALENDAR
VERSION:2.0
PRODID:-//Rivermont Collegiate - ECPv6.15.20//NONSGML v1.0//EN
CALSCALE:GREGORIAN
METHOD:PUBLISH
X-WR-CALNAME:Rivermont Collegiate
X-ORIGINAL-URL:https://www.rivermontcollegiate.org
X-WR-CALDESC:Events for Rivermont Collegiate
REFRESH-INTERVAL;VALUE=DURATION:PT1H
X-Robots-Tag:noindex
X-PUBLISHED-TTL:PT1H
BEGIN:VTIMEZONE
TZID:UTC
BEGIN:STANDARD
TZOFFSETFROM:+0000
TZOFFSETTO:+0000
TZNAME:UTC
DTSTART:20220101T000000
END:STANDARD
END:VTIMEZONE
BEGIN:VEVENT
DTSTART;TZID=UTC:20230602T130000
DTEND;TZID=UTC:20230602T160000
DTSTAMP:20260423T132044
CREATED:20230501T182515Z
LAST-MODIFIED:20230501T182634Z
UID:240131-1685710800-1685721600@www.rivermontcollegiate.org
SUMMARY:Tour the Bettendorf Mansion
DESCRIPTION:We are celebrating the City of Bettendorf’s 120th birthday by offering free tours of the Bettendorf Mansion. The 28-room home has three floors and a full basement for a total of 21\,000 square feet of finished space. The Mansion featured a domed stained glass conservatory (still intact)\, a billiards room\, a ballroom on the third floor\, and a bowling alley in the basement.
URL:https://www.rivermontcollegiate.org/event/tour-the-bettendorf-mansion/
LOCATION:Rivermont Collegiate\, 1821 Sunset Drive\, Bettendorf\, IA\, 52722\, United States
CATEGORIES:Public
ORGANIZER;CN="Rivermont Collegiate":MAILTO:jweitzel@rivermontcollegiate.org
END:VEVENT
END:VCALENDAR