BEGIN:VCALENDAR
VERSION:2.0
PRODID:-//Rivermont Collegiate - ECPv6.15.20//NONSGML v1.0//EN
CALSCALE:GREGORIAN
METHOD:PUBLISH
X-ORIGINAL-URL:https://www.rivermontcollegiate.org
X-WR-CALDESC:Events for Rivermont Collegiate
REFRESH-INTERVAL;VALUE=DURATION:PT1H
X-Robots-Tag:noindex
X-PUBLISHED-TTL:PT1H
BEGIN:VTIMEZONE
TZID:UTC
BEGIN:STANDARD
TZOFFSETFROM:+0000
TZOFFSETTO:+0000
TZNAME:UTC
DTSTART:20220101T000000
END:STANDARD
END:VTIMEZONE
BEGIN:VEVENT
DTSTART;TZID=UTC:20230521T140000
DTEND;TZID=UTC:20230521T210000
DTSTAMP:20260423T150917
CREATED:20230419T175401Z
LAST-MODIFIED:20230501T180450Z
UID:239956-1684677600-1684702800@www.rivermontcollegiate.org
SUMMARY:Judy Page Quartet - Polyrhythms Third Sunday Jazz
DESCRIPTION:This event is open to the public. 2:00 p.m. Workshop\, 5:00 p.m. Concert. Tickets $15 General Admission$20 Reserved Seating. For ticket information\, call Polyrhythms: 309 373-0790.
URL:https://www.rivermontcollegiate.org/event/judy-page-quartet/
LOCATION:Rivermont Collegiate\, 1821 Sunset Drive\, Bettendorf\, IA\, 52722\, United States
CATEGORIES:Music,Public
END:VEVENT
END:VCALENDAR