BEGIN:VCALENDAR
VERSION:2.0
PRODID:-//Rivermont Collegiate - ECPv6.15.20//NONSGML v1.0//EN
CALSCALE:GREGORIAN
METHOD:PUBLISH
X-WR-CALNAME:Rivermont Collegiate
X-ORIGINAL-URL:https://www.rivermontcollegiate.org
X-WR-CALDESC:Events for Rivermont Collegiate
REFRESH-INTERVAL;VALUE=DURATION:PT1H
X-Robots-Tag:noindex
X-PUBLISHED-TTL:PT1H
BEGIN:VTIMEZONE
TZID:UTC
BEGIN:STANDARD
TZOFFSETFROM:+0000
TZOFFSETTO:+0000
TZNAME:UTC
DTSTART:20240101T000000
END:STANDARD
END:VTIMEZONE
BEGIN:VEVENT
DTSTART;TZID=UTC:20251126T081500
DTEND;TZID=UTC:20251126T110000
DTSTAMP:20260422T062437
CREATED:20250820T115835Z
LAST-MODIFIED:20250820T115835Z
UID:250636-1764144900-1764154800@www.rivermontcollegiate.org
SUMMARY:Early Out - Grandparents & Special Friends Day
DESCRIPTION:
URL:https://www.rivermontcollegiate.org/event/early-out-grandparents-special-friends-day/
LOCATION:Rivermont Collegiate\, 1821 Sunset Drive\, Bettendorf\, IA\, 52722\, United States
CATEGORIES:Event
ORGANIZER;CN="Rivermont Collegiate":MAILTO:jweitzel@rivermontcollegiate.org
END:VEVENT
END:VCALENDAR