BEGIN:VCALENDAR
VERSION:2.0
PRODID:-//Rivermont Collegiate - ECPv6.15.20//NONSGML v1.0//EN
CALSCALE:GREGORIAN
METHOD:PUBLISH
X-WR-CALNAME:Rivermont Collegiate
X-ORIGINAL-URL:https://www.rivermontcollegiate.org
X-WR-CALDESC:Events for Rivermont Collegiate
REFRESH-INTERVAL;VALUE=DURATION:PT1H
X-Robots-Tag:noindex
X-PUBLISHED-TTL:PT1H
BEGIN:VTIMEZONE
TZID:UTC
BEGIN:STANDARD
TZOFFSETFROM:+0000
TZOFFSETTO:+0000
TZNAME:UTC
DTSTART:20240101T000000
END:STANDARD
END:VTIMEZONE
BEGIN:VEVENT
DTSTART;VALUE=DATE:20251009
DTEND;VALUE=DATE:20251010
DTSTAMP:20260422T062438
CREATED:20250818T183010Z
LAST-MODIFIED:20250818T183010Z
UID:250621-1759968000-1760054399@www.rivermontcollegiate.org
SUMMARY:OLE Day - LS
DESCRIPTION:
URL:https://www.rivermontcollegiate.org/event/ole-day-ls/
CATEGORIES:Event
ORGANIZER;CN="Rivermont Collegiate":MAILTO:jweitzel@rivermontcollegiate.org
END:VEVENT
BEGIN:VEVENT
DTSTART;TZID=UTC:20251010T130000
DTEND;TZID=UTC:20251010T170000
DTSTAMP:20260422T062438
CREATED:20250818T201537Z
LAST-MODIFIED:20250818T201537Z
UID:250625-1760101200-1760115600@www.rivermontcollegiate.org
SUMMARY:3D Printing Event
DESCRIPTION:DETAILS TO COME
URL:https://www.rivermontcollegiate.org/event/3d-printing-event/
LOCATION:Rivermont Collegiate\, 1821 Sunset Drive\, Bettendorf\, IA\, 52722\, United States
CATEGORIES:Event
END:VEVENT
BEGIN:VEVENT
DTSTART;TZID=UTC:20251031T180000
DTEND;TZID=UTC:20251031T220000
DTSTAMP:20260422T062438
CREATED:20251028T123517Z
LAST-MODIFIED:20251028T123618Z
UID:251142-1761933600-1761948000@www.rivermontcollegiate.org
SUMMARY:Haunted Mansion
DESCRIPTION:Supports the Student Hunger Drive
URL:https://www.rivermontcollegiate.org/event/haunted-mansion-3/
LOCATION:Rivermont Collegiate\, 1821 Sunset Drive\, Bettendorf\, IA\, 52722\, United States
CATEGORIES:Event,Haunted Mansion
END:VEVENT
END:VCALENDAR