BEGIN:VCALENDAR
VERSION:2.0
PRODID:-//Rivermont Collegiate - ECPv6.15.20//NONSGML v1.0//EN
CALSCALE:GREGORIAN
METHOD:PUBLISH
X-WR-CALNAME:Rivermont Collegiate
X-ORIGINAL-URL:https://www.rivermontcollegiate.org
X-WR-CALDESC:Events for Rivermont Collegiate
REFRESH-INTERVAL;VALUE=DURATION:PT1H
X-Robots-Tag:noindex
X-PUBLISHED-TTL:PT1H
BEGIN:VTIMEZONE
TZID:UTC
BEGIN:STANDARD
TZOFFSETFROM:+0000
TZOFFSETTO:+0000
TZNAME:UTC
DTSTART:20250101T000000
END:STANDARD
END:VTIMEZONE
BEGIN:VEVENT
DTSTART;VALUE=DATE:20260528
DTEND;VALUE=DATE:20260529
DTSTAMP:20260422T181530
CREATED:20250820T132511Z
LAST-MODIFIED:20250820T132511Z
UID:250671-1779926400-1780012799@www.rivermontcollegiate.org
SUMMARY:ES/LS Awards and Promotions
DESCRIPTION:Details to come.
URL:https://www.rivermontcollegiate.org/event/es-ls-awards-and-promotions/
LOCATION:Rivermont Collegiate\, 1821 Sunset Drive\, Bettendorf\, IA\, 52722\, United States
CATEGORIES:Ceremony
ORGANIZER;CN="Rivermont Collegiate":MAILTO:jweitzel@rivermontcollegiate.org
END:VEVENT
BEGIN:VEVENT
DTSTART;VALUE=DATE:20260531
DTEND;VALUE=DATE:20260601
DTSTAMP:20260422T181530
CREATED:20250820T132800Z
LAST-MODIFIED:20250820T132800Z
UID:250675-1780185600-1780271999@www.rivermontcollegiate.org
SUMMARY:Graduation
DESCRIPTION:Details to come.
URL:https://www.rivermontcollegiate.org/event/graduation-2/
CATEGORIES:Ceremony
END:VEVENT
END:VCALENDAR