BEGIN:VCALENDAR
VERSION:2.0
PRODID:-//Rivermont Collegiate - ECPv6.15.20//NONSGML v1.0//EN
CALSCALE:GREGORIAN
METHOD:PUBLISH
X-ORIGINAL-URL:https://www.rivermontcollegiate.org
X-WR-CALDESC:Events for Rivermont Collegiate
REFRESH-INTERVAL;VALUE=DURATION:PT1H
X-Robots-Tag:noindex
X-PUBLISHED-TTL:PT1H
BEGIN:VTIMEZONE
TZID:UTC
BEGIN:STANDARD
TZOFFSETFROM:+0000
TZOFFSETTO:+0000
TZNAME:UTC
DTSTART:20240101T000000
END:STANDARD
END:VTIMEZONE
BEGIN:VEVENT
DTSTART;TZID=UTC:20251010T163000
DTEND;TZID=UTC:20251010T203000
DTSTAMP:20260421T231143
CREATED:20250821T133252Z
LAST-MODIFIED:20250821T133252Z
UID:250716-1760113800-1760128200@www.rivermontcollegiate.org
SUMMARY:Volleyball - Varsity Girls @ Hillcrest (TRI)
DESCRIPTION:4:30 p.m. – Rivermont v Hillcrest\n6:00 p.m. – Coram Deo v Hillcrest\n7:30 p.m. – Rivermont v Coram Deo
URL:https://www.rivermontcollegiate.org/event/volleyball-varsity-girls-hillcrest-tri/
LOCATION:Hillcrest\, 1421 540th St\, Kalona\, IA\, 52247\, United States
CATEGORIES:Athletics,Game
END:VEVENT
END:VCALENDAR