BEGIN:VCALENDAR
VERSION:2.0
PRODID:-//Rivermont Collegiate - ECPv6.15.20//NONSGML v1.0//EN
CALSCALE:GREGORIAN
METHOD:PUBLISH
X-ORIGINAL-URL:https://www.rivermontcollegiate.org
X-WR-CALDESC:Events for Rivermont Collegiate
REFRESH-INTERVAL;VALUE=DURATION:PT1H
X-Robots-Tag:noindex
X-PUBLISHED-TTL:PT1H
BEGIN:VTIMEZONE
TZID:UTC
BEGIN:STANDARD
TZOFFSETFROM:+0000
TZOFFSETTO:+0000
TZNAME:UTC
DTSTART:20240101T000000
END:STANDARD
END:VTIMEZONE
BEGIN:VEVENT
DTSTART;TZID=UTC:20251003T160000
DTEND;TZID=UTC:20251003T180000
DTSTAMP:20260421T231230
CREATED:20250821T132626Z
LAST-MODIFIED:20250821T132627Z
UID:250712-1759507200-1759514400@www.rivermontcollegiate.org
SUMMARY:Volleyball - Staff-Student Tournament @ Home
DESCRIPTION:
URL:https://www.rivermontcollegiate.org/event/volleyball-staff-student-tournament-home/
LOCATION:Rivermont Collegiate\, 1821 Sunset Drive\, Bettendorf\, IA\, 52722\, United States
CATEGORIES:Athletics,Game
ORGANIZER;CN="Rivermont Collegiate":MAILTO:jweitzel@rivermontcollegiate.org
END:VEVENT
END:VCALENDAR