BEGIN:VCALENDAR
VERSION:2.0
PRODID:-//Rivermont Collegiate - ECPv6.15.20//NONSGML v1.0//EN
CALSCALE:GREGORIAN
METHOD:PUBLISH
X-ORIGINAL-URL:https://www.rivermontcollegiate.org
X-WR-CALDESC:Events for Rivermont Collegiate
REFRESH-INTERVAL;VALUE=DURATION:PT1H
X-Robots-Tag:noindex
X-PUBLISHED-TTL:PT1H
BEGIN:VTIMEZONE
TZID:UTC
BEGIN:STANDARD
TZOFFSETFROM:+0000
TZOFFSETTO:+0000
TZNAME:UTC
DTSTART:20240101T000000
END:STANDARD
END:VTIMEZONE
BEGIN:VEVENT
DTSTART;TZID=UTC:20250916T180000
DTEND;TZID=UTC:20250916T190000
DTSTAMP:20260422T005503
CREATED:20250821T131631Z
LAST-MODIFIED:20250821T131631Z
UID:250700-1758045600-1758049200@www.rivermontcollegiate.org
SUMMARY:Volleyball - Varsity Girls @ QC Christian
DESCRIPTION:6:00 p.m. (JV)
URL:https://www.rivermontcollegiate.org/event/volleyball-varsity-girls-qc-christian/
LOCATION:QC Christian\, 4000 11th St\, Moline\, IL\, 61265\, United States
CATEGORIES:Athletics,Game
END:VEVENT
END:VCALENDAR