BEGIN:VCALENDAR
VERSION:2.0
PRODID:-//Rivermont Collegiate - ECPv6.15.20//NONSGML v1.0//EN
CALSCALE:GREGORIAN
METHOD:PUBLISH
X-WR-CALNAME:Rivermont Collegiate
X-ORIGINAL-URL:https://www.rivermontcollegiate.org
X-WR-CALDESC:Events for Rivermont Collegiate
REFRESH-INTERVAL;VALUE=DURATION:PT1H
X-Robots-Tag:noindex
X-PUBLISHED-TTL:PT1H
BEGIN:VTIMEZONE
TZID:UTC
BEGIN:STANDARD
TZOFFSETFROM:+0000
TZOFFSETTO:+0000
TZNAME:UTC
DTSTART:20240101T000000
END:STANDARD
END:VTIMEZONE
BEGIN:VEVENT
DTSTART;VALUE=DATE:20250915
DTEND;VALUE=DATE:20250916
DTSTAMP:20260422T005356
CREATED:20250821T131327Z
LAST-MODIFIED:20250821T131327Z
UID:250697-1757894400-1757980799@www.rivermontcollegiate.org
SUMMARY:Volleyball - Varsity Girls @ Prince of Peace
DESCRIPTION:Schedule TBD
URL:https://www.rivermontcollegiate.org/event/volleyball-varsity-girls-prince-of-peace/
LOCATION:Prince of Peah
CATEGORIES:Athletics,Game
END:VEVENT
END:VCALENDAR