BEGIN:VCALENDAR
VERSION:2.0
PRODID:-//Rivermont Collegiate - ECPv6.15.20//NONSGML v1.0//EN
CALSCALE:GREGORIAN
METHOD:PUBLISH
X-ORIGINAL-URL:https://www.rivermontcollegiate.org
X-WR-CALDESC:Events for Rivermont Collegiate
REFRESH-INTERVAL;VALUE=DURATION:PT1H
X-Robots-Tag:noindex
X-PUBLISHED-TTL:PT1H
BEGIN:VTIMEZONE
TZID:UTC
BEGIN:STANDARD
TZOFFSETFROM:+0000
TZOFFSETTO:+0000
TZNAME:UTC
DTSTART:20240101T000000
END:STANDARD
END:VTIMEZONE
BEGIN:VEVENT
DTSTART;VALUE=DATE:20250912
DTEND;VALUE=DATE:20250913
DTSTAMP:20260422T005503
CREATED:20250821T131129Z
LAST-MODIFIED:20250821T131129Z
UID:250694-1757635200-1757721599@www.rivermontcollegiate.org
SUMMARY:Volleyball - Varsity Girls @ Tri-State Christian
DESCRIPTION:Schedule TBD
URL:https://www.rivermontcollegiate.org/event/volleyball-varsity-girls-tri-state-christian/
LOCATION:Tri-State Christian\, 5630 Saratoga Rd\, Dubque\, IA\, 52002\, United States
CATEGORIES:Athletics,Game
END:VEVENT
END:VCALENDAR