BEGIN:VCALENDAR
VERSION:2.0
PRODID:-//Rivermont Collegiate - ECPv6.15.20//NONSGML v1.0//EN
CALSCALE:GREGORIAN
METHOD:PUBLISH
X-ORIGINAL-URL:https://www.rivermontcollegiate.org
X-WR-CALDESC:Events for Rivermont Collegiate
REFRESH-INTERVAL;VALUE=DURATION:PT1H
X-Robots-Tag:noindex
X-PUBLISHED-TTL:PT1H
BEGIN:VTIMEZONE
TZID:UTC
BEGIN:STANDARD
TZOFFSETFROM:+0000
TZOFFSETTO:+0000
TZNAME:UTC
DTSTART:20240101T000000
END:STANDARD
END:VTIMEZONE
BEGIN:VEVENT
DTSTART;TZID=UTC:20250906T090000
DTEND;TZID=UTC:20250906T160000
DTSTAMP:20260422T005504
CREATED:20250821T123756Z
LAST-MODIFIED:20250821T123756Z
UID:250692-1757149200-1757174400@www.rivermontcollegiate.org
SUMMARY:Volleyball - Varsity Girls Tournament
DESCRIPTION:Tournament @ Unity Christian\n(711 10th St.\, Fulton\, IL 61252) \n\n8:30 a.m. – Unity v Coram Deo\n9:15 a.m. – Morning Star (MSA) v Rivermont\n10:00 a.m. – Coram Deo v Galesburg Christian (GCS)\n10:45 a.m. – Unity v Rivermont\n11:30 a.m. – GCS v MSA\n12:15 p.m. – Coram Deo v Rivermont\n1:00 p.m. – Unity v GCS\n1:45 p.m. – MSA v Coram Deo\n2:30 p.m. – Rivermont v GCS\n3:15 p.m. – Unity v MSA
URL:https://www.rivermontcollegiate.org/event/volleyball-varsity-girls-tournament/
LOCATION:Unity Christian\, 711 10th St\, Fulton\, IL\, 61252
CATEGORIES:Athletics,Game
END:VEVENT
END:VCALENDAR