BEGIN:VCALENDAR
VERSION:2.0
PRODID:-//Rivermont Collegiate - ECPv6.15.20//NONSGML v1.0//EN
CALSCALE:GREGORIAN
METHOD:PUBLISH
X-WR-CALNAME:Rivermont Collegiate
X-ORIGINAL-URL:https://www.rivermontcollegiate.org
X-WR-CALDESC:Events for Rivermont Collegiate
REFRESH-INTERVAL;VALUE=DURATION:PT1H
X-Robots-Tag:noindex
X-PUBLISHED-TTL:PT1H
BEGIN:VTIMEZONE
TZID:UTC
BEGIN:STANDARD
TZOFFSETFROM:+0000
TZOFFSETTO:+0000
TZNAME:UTC
DTSTART:20220101T000000
END:STANDARD
END:VTIMEZONE
BEGIN:VEVENT
DTSTART;TZID=UTC:20231019T080000
DTEND;TZID=UTC:20231019T170000
DTSTAMP:20260423T145510
CREATED:20230831T123227Z
LAST-MODIFIED:20230831T123227Z
UID:241034-1697702400-1697734800@www.rivermontcollegiate.org
SUMMARY:Varsity Cross Country 1A State Qualifier
DESCRIPTION:Should anyone qualify for the state meet\, it will be held on Friday\, October 27\, at Kennedy Park in Fort Dodge\, Iowa.
URL:https://www.rivermontcollegiate.org/event/varsity-cross-country-1a-state-qualifier/
LOCATION:IA
CATEGORIES:Athletics,Game
END:VEVENT
END:VCALENDAR