BEGIN:VCALENDAR
VERSION:2.0
PRODID:-//Rivermont Collegiate - ECPv6.15.20//NONSGML v1.0//EN
CALSCALE:GREGORIAN
METHOD:PUBLISH
X-WR-CALNAME:Rivermont Collegiate
X-ORIGINAL-URL:https://www.rivermontcollegiate.org
X-WR-CALDESC:Events for Rivermont Collegiate
REFRESH-INTERVAL;VALUE=DURATION:PT1H
X-Robots-Tag:noindex
X-PUBLISHED-TTL:PT1H
BEGIN:VTIMEZONE
TZID:UTC
BEGIN:STANDARD
TZOFFSETFROM:+0000
TZOFFSETTO:+0000
TZNAME:UTC
DTSTART:20220101T000000
END:STANDARD
END:VTIMEZONE
BEGIN:VEVENT
DTSTART;TZID=UTC:20231003T162000
DTEND;TZID=UTC:20231003T183000
DTSTAMP:20260423T144013
CREATED:20230831T122302Z
LAST-MODIFIED:20230831T133327Z
UID:241021-1696350000-1696357800@www.rivermontcollegiate.org
SUMMARY:MS Cross Country Meet
DESCRIPTION:Meet @ Scott Family Park (Colona)\, 4:30 p.m.
URL:https://www.rivermontcollegiate.org/event/ms-cross-country-meet-4/
LOCATION:Colona Scott Family Park\, 5775 Poppy Garden Road\, Colona\, 61241
CATEGORIES:Athletics,Game
END:VEVENT
BEGIN:VEVENT
DTSTART;TZID=UTC:20231003T180000
DTEND;TZID=UTC:20231003T200000
DTSTAMP:20260423T144013
CREATED:20230912T124437Z
LAST-MODIFIED:20230912T124437Z
UID:241182-1696356000-1696363200@www.rivermontcollegiate.org
SUMMARY:Varsity Girls Volleyball
DESCRIPTION:Game @ Unity Christian
URL:https://www.rivermontcollegiate.org/event/varsity-girls-volleyball-7/
LOCATION:Unity Christian\, 711 10th St\, Fulton\, IL\, 61252
CATEGORIES:Athletics,Game
END:VEVENT
END:VCALENDAR