BEGIN:VCALENDAR
VERSION:2.0
PRODID:-//Rivermont Collegiate - ECPv6.15.20//NONSGML v1.0//EN
CALSCALE:GREGORIAN
METHOD:PUBLISH
X-WR-CALNAME:Rivermont Collegiate
X-ORIGINAL-URL:https://www.rivermontcollegiate.org
X-WR-CALDESC:Events for Rivermont Collegiate
REFRESH-INTERVAL;VALUE=DURATION:PT1H
X-Robots-Tag:noindex
X-PUBLISHED-TTL:PT1H
BEGIN:VTIMEZONE
TZID:UTC
BEGIN:STANDARD
TZOFFSETFROM:+0000
TZOFFSETTO:+0000
TZNAME:UTC
DTSTART:20220101T000000
END:STANDARD
END:VTIMEZONE
BEGIN:VEVENT
DTSTART;TZID=UTC:20230926T163000
DTEND;TZID=UTC:20230926T180000
DTSTAMP:20260423T161132
CREATED:20230831T122047Z
LAST-MODIFIED:20230831T132834Z
UID:241018-1695745800-1695751200@www.rivermontcollegiate.org
SUMMARY:MS Cross Country Meet
DESCRIPTION:Meet @ Empire Park (Hampton)\, 4:30 p.m.
URL:https://www.rivermontcollegiate.org/event/ms-cross-country-meet-3/
LOCATION:Empire Park\, 751 N 20th Street\, Hampton\, 61244
CATEGORIES:Athletics,Game
END:VEVENT
BEGIN:VEVENT
DTSTART;TZID=UTC:20230926T170000
DTEND;TZID=UTC:20230926T190000
DTSTAMP:20260423T161132
CREATED:20230912T123722Z
LAST-MODIFIED:20230912T123722Z
UID:241176-1695747600-1695754800@www.rivermontcollegiate.org
SUMMARY:Varsity Girls Volleyball
DESCRIPTION:Game @ Midwest Athletics (Address TBD\, Galesburg\, IL)
URL:https://www.rivermontcollegiate.org/event/varsity-girls-volleyball-4/
LOCATION:IA
CATEGORIES:Athletics,Game
END:VEVENT
END:VCALENDAR