BEGIN:VCALENDAR
VERSION:2.0
PRODID:-//Rivermont Collegiate - ECPv6.15.20//NONSGML v1.0//EN
CALSCALE:GREGORIAN
METHOD:PUBLISH
X-WR-CALNAME:Rivermont Collegiate
X-ORIGINAL-URL:https://www.rivermontcollegiate.org
X-WR-CALDESC:Events for Rivermont Collegiate
REFRESH-INTERVAL;VALUE=DURATION:PT1H
X-Robots-Tag:noindex
X-PUBLISHED-TTL:PT1H
BEGIN:VTIMEZONE
TZID:UTC
BEGIN:STANDARD
TZOFFSETFROM:+0000
TZOFFSETTO:+0000
TZNAME:UTC
DTSTART:20220101T000000
END:STANDARD
END:VTIMEZONE
BEGIN:VEVENT
DTSTART;TZID=UTC:20230126T173000
DTEND;TZID=UTC:20230126T190000
DTSTAMP:20260424T042457
CREATED:20230118T182611Z
LAST-MODIFIED:20230407T132803Z
UID:237041-1674754200-1674759600@www.rivermontcollegiate.org
SUMMARY:Varsity Boys Basketball Game @ Morning Star
DESCRIPTION:Varsity Boys Basketball Game @ Morning Star (Beyond the Baseline)\nContact Coach Grimm
URL:https://www.rivermontcollegiate.org/event/varsity-boys-basketball-game-morning-star/
LOCATION:MS Beyond the Baseline\, 1540 W 12th St\, Davenport\, IA\, 52804\, United States
CATEGORIES:Athletics,Game
END:VEVENT
END:VCALENDAR