BEGIN:VCALENDAR
VERSION:2.0
PRODID:-//Rivermont Collegiate - ECPv6.15.20//NONSGML v1.0//EN
CALSCALE:GREGORIAN
METHOD:PUBLISH
X-ORIGINAL-URL:https://www.rivermontcollegiate.org
X-WR-CALDESC:Events for Rivermont Collegiate
REFRESH-INTERVAL;VALUE=DURATION:PT1H
X-Robots-Tag:noindex
X-PUBLISHED-TTL:PT1H
BEGIN:VTIMEZONE
TZID:UTC
BEGIN:STANDARD
TZOFFSETFROM:+0000
TZOFFSETTO:+0000
TZNAME:UTC
DTSTART:20220101T000000
END:STANDARD
END:VTIMEZONE
BEGIN:VEVENT
DTSTART;TZID=UTC:20231002T161500
DTEND;TZID=UTC:20231002T183000
DTSTAMP:20260423T124129
CREATED:20230831T123058Z
LAST-MODIFIED:20230831T132600Z
UID:241031-1696263300-1696271400@www.rivermontcollegiate.org
SUMMARY:Varsity Cross Country Meet
DESCRIPTION:Meet @ Bellevue Marquette\, 4:15 p.m.
URL:https://www.rivermontcollegiate.org/event/varsity-cross-country-meet-3/
LOCATION:Bellevue Golf Club\, 32292 395th Avenue\, Bellevue\, Iowa\, 52031
CATEGORIES:Athletics,Game
END:VEVENT
BEGIN:VEVENT
DTSTART;TZID=UTC:20231003T162000
DTEND;TZID=UTC:20231003T183000
DTSTAMP:20260423T124129
CREATED:20230831T122302Z
LAST-MODIFIED:20230831T133327Z
UID:241021-1696350000-1696357800@www.rivermontcollegiate.org
SUMMARY:MS Cross Country Meet
DESCRIPTION:Meet @ Scott Family Park (Colona)\, 4:30 p.m.
URL:https://www.rivermontcollegiate.org/event/ms-cross-country-meet-4/
LOCATION:Colona Scott Family Park\, 5775 Poppy Garden Road\, Colona\, 61241
CATEGORIES:Athletics,Game
END:VEVENT
BEGIN:VEVENT
DTSTART;TZID=UTC:20231003T180000
DTEND;TZID=UTC:20231003T200000
DTSTAMP:20260423T124129
CREATED:20230912T124437Z
LAST-MODIFIED:20230912T124437Z
UID:241182-1696356000-1696363200@www.rivermontcollegiate.org
SUMMARY:Varsity Girls Volleyball
DESCRIPTION:Game @ Unity Christian
URL:https://www.rivermontcollegiate.org/event/varsity-girls-volleyball-7/
LOCATION:Unity Christian\, 711 10th St\, Fulton\, IL\, 61252
CATEGORIES:Athletics,Game
END:VEVENT
BEGIN:VEVENT
DTSTART;TZID=UTC:20231005T180000
DTEND;TZID=UTC:20231005T200000
DTSTAMP:20260423T124129
CREATED:20230912T124603Z
LAST-MODIFIED:20230912T124603Z
UID:241185-1696528800-1696536000@www.rivermontcollegiate.org
SUMMARY:Varsity Girls Volleyball
DESCRIPTION:Game v QC Christian @ Home (*Homecoming Game/Senior Night)
URL:https://www.rivermontcollegiate.org/event/varsity-girls-volleyball-8/
LOCATION:Rivermont Collegiate\, 1821 Sunset Drive\, Bettendorf\, IA\, 52722\, United States
CATEGORIES:Athletics,Game
END:VEVENT
BEGIN:VEVENT
DTSTART;TZID=UTC:20231006T160000
DTEND;TZID=UTC:20231006T180000
DTSTAMP:20260423T124129
CREATED:20230912T124723Z
LAST-MODIFIED:20230912T124723Z
UID:241187-1696608000-1696615200@www.rivermontcollegiate.org
SUMMARY:Staff-Student Volleyball Tournament
DESCRIPTION:
URL:https://www.rivermontcollegiate.org/event/staff-student-volleyball-tournament/
LOCATION:Rivermont Collegiate\, 1821 Sunset Drive\, Bettendorf\, IA\, 52722\, United States
CATEGORIES:Athletics,Game
END:VEVENT
BEGIN:VEVENT
DTSTART;TZID=UTC:20231010T180000
DTEND;TZID=UTC:20231010T200000
DTSTAMP:20260423T124129
CREATED:20230912T124959Z
LAST-MODIFIED:20230912T124959Z
UID:241189-1696960800-1696968000@www.rivermontcollegiate.org
SUMMARY:Varsity Girls Volleygall
DESCRIPTION:Game @ Pathway Christian
URL:https://www.rivermontcollegiate.org/event/varsity-girls-volleygall/
LOCATION:Pathway Christian\, 5764 Hwy 1 SW\, Kalona\, IA\, 52247\, United States
CATEGORIES:Athletics,Game
END:VEVENT
BEGIN:VEVENT
DTSTART;TZID=UTC:20231019T080000
DTEND;TZID=UTC:20231019T170000
DTSTAMP:20260423T124129
CREATED:20230831T123227Z
LAST-MODIFIED:20230831T123227Z
UID:241034-1697702400-1697734800@www.rivermontcollegiate.org
SUMMARY:Varsity Cross Country 1A State Qualifier
DESCRIPTION:Should anyone qualify for the state meet\, it will be held on Friday\, October 27\, at Kennedy Park in Fort Dodge\, Iowa.
URL:https://www.rivermontcollegiate.org/event/varsity-cross-country-1a-state-qualifier/
LOCATION:IA
CATEGORIES:Athletics,Game
END:VEVENT
END:VCALENDAR