BEGIN:VCALENDAR
VERSION:2.0
PRODID:-//Rivermont Collegiate - ECPv6.15.20//NONSGML v1.0//EN
CALSCALE:GREGORIAN
METHOD:PUBLISH
X-WR-CALNAME:Rivermont Collegiate
X-ORIGINAL-URL:https://www.rivermontcollegiate.org
X-WR-CALDESC:Events for Rivermont Collegiate
REFRESH-INTERVAL;VALUE=DURATION:PT1H
X-Robots-Tag:noindex
X-PUBLISHED-TTL:PT1H
BEGIN:VTIMEZONE
TZID:UTC
BEGIN:STANDARD
TZOFFSETFROM:+0000
TZOFFSETTO:+0000
TZNAME:UTC
DTSTART:20240101T000000
END:STANDARD
END:VTIMEZONE
BEGIN:VEVENT
DTSTART;VALUE=DATE:20251007
DTEND;VALUE=DATE:20251008
DTSTAMP:20260421T230803
CREATED:20250821T132757Z
LAST-MODIFIED:20250821T132757Z
UID:250714-1759795200-1759881599@www.rivermontcollegiate.org
SUMMARY:Volleyball - Varsity Girls @ QC Christian
DESCRIPTION:Schedule TBD
URL:https://www.rivermontcollegiate.org/event/volleyball-varsity-girls-qc-christian-2/
LOCATION:QC Christian\, 4000 11th St\, Moline\, IL\, 61265\, United States
CATEGORIES:Athletics
END:VEVENT
END:VCALENDAR