BEGIN:VCALENDAR
VERSION:2.0
PRODID:-//Rivermont Collegiate - ECPv6.15.20//NONSGML v1.0//EN
CALSCALE:GREGORIAN
METHOD:PUBLISH
X-WR-CALNAME:Rivermont Collegiate
X-ORIGINAL-URL:https://www.rivermontcollegiate.org
X-WR-CALDESC:Events for Rivermont Collegiate
REFRESH-INTERVAL;VALUE=DURATION:PT1H
X-Robots-Tag:noindex
X-PUBLISHED-TTL:PT1H
BEGIN:VTIMEZONE
TZID:UTC
BEGIN:STANDARD
TZOFFSETFROM:+0000
TZOFFSETTO:+0000
TZNAME:UTC
DTSTART:20240101T000000
END:STANDARD
END:VTIMEZONE
BEGIN:VEVENT
DTSTART;TZID=UTC:20250930T180000
DTEND;TZID=UTC:20250930T190000
DTSTAMP:20260421T230810
CREATED:20250821T132217Z
LAST-MODIFIED:20250821T132217Z
UID:250708-1759255200-1759258800@www.rivermontcollegiate.org
SUMMARY:Volleyball - Varsity Girls v TSCS @ Home
DESCRIPTION:
URL:https://www.rivermontcollegiate.org/event/volleyball-varsity-girls-v-tscs-home/
LOCATION:Rivermont Collegiate\, 1821 Sunset Drive\, Bettendorf\, IA\, 52722\, United States
CATEGORIES:Athletics,Game
END:VEVENT
END:VCALENDAR